BEGIN:VCALENDAR
PRODID:-//hacksw/handcal//NONSGML v1.0//EN
VERSION:2.0
METHOD:PUBLISH
BEGIN:VEVENT
DTSTART:20150114T130000Z
DTEND:20150114T140000Z
LOCATION:U.S. Trust Offices, One Gorham Island, Westport, CT 06880
UID:1063520150114T130000ZBreakfast Meeting: The Essential Elements of a Credible Personal Property Appraisal and Compliance with the Uniform Standards of Professional Appraisal Practice (USPAP)
DTSTAMP:20260420T095045Z
DESCRIPTION:\nWe are pleased to announce that Cynthia D. Herbert, AAA, President, Appretium Appraisal Services, LLC, will be the guest speaker and will talk about the "The Essential Elements of a Credible Personal Property Appraisal and Compliance with the Uniform Standards of Professional Appraisal Practice (USPAP)” at our “members only” breakfast meeting on Wednesday, January 14, 2015, 8:00 a.m. to 9:00 a.m., at the U.S. Trust Offices located at One Gorham Island, 2nd Floor, in Westport. Please note that our breakfast meetings are no longer held at the Westport Library.\n \nThis one-hour  presentation will address the difference between various appraisal reports for estate planning, estate tax filing, charitable contributions and gift tax purposes; the definition of personal property; the appraisal process; components of value and valuation approaches.  \n \nPlease click on the document link below for complete program and registration details.\n
SUMMARY:Breakfast Meeting: The Essential Elements of a Credible Personal Property Appraisal and Compliance with the Uniform Standards of Professional Appraisal Practice (USPAP) - Estate Planning Council of Lower Fairfield County, Inc. 
PRIORITY:3
BEGIN:VALARM
TRIGGER:PT18H
ACTION:DISPLAY
DESCRIPTION:Reminder
END:VALARM
END:VEVENT
END:VCALENDAR