BEGIN:VCALENDAR
PRODID:-//hacksw/handcal//NONSGML v1.0//EN
VERSION:2.0
METHOD:PUBLISH
BEGIN:VEVENT
DTSTART:20180221T224500Z
DTEND:20180222T014500Z
LOCATION:Giovanni’s II/The Waters Edge, 2748 Post Road, Darien, CT 06820
UID:1520720180221T224500ZCharitable Giving Panel Discussion
DTSTAMP:20260422T232722Z
DESCRIPTION:\nWe are pleased to announce that Margot Navins, CAP®, Vice President/Charitable Planning Consultant, Fidelity Charitable, Ryan A. Boland, Vice President, Complex Asset Group, Fidelity Charitable, Lauren Patterson, President/CEO, New Canaan Community Foundation, and Michelle Ernst, Development Manager, New Canaan Community Foundation, will be our guest panelists on the subject of “Charitable Giving” at our February 21st dinner meeting at Giovanni’s II (The Waters Edge) in Darien. Cash bar and cocktails will begin at 5:45 p.m., followed by dinner promptly at 6:30 p.m., speaker at 7:30 p.m., and we anticipate an end to the meeting between 8:30 p.m. and 8:45 p.m. \n \nFor panelist bios and registration details, please click on the document links below.\n
SUMMARY:Charitable Giving Panel Discussion - Estate Planning Council of Lower Fairfield County, Inc. 
PRIORITY:3
BEGIN:VALARM
TRIGGER:PT18H
ACTION:DISPLAY
DESCRIPTION:Reminder
END:VALARM
END:VEVENT
END:VCALENDAR