BEGIN:VCALENDAR
PRODID:-//hacksw/handcal//NONSGML v1.0//EN
VERSION:2.0
METHOD:PUBLISH
BEGIN:VEVENT
DTSTART:20190313T214500Z
DTEND:20190314T004500Z
LOCATION:The J House, 1114 E Putnam Ave, Riverside, CT 06878
UID:1641320190313T214500ZNEW DATE for Post-Mortem Planning and Administration – What Every Executor (and Their Advisors)  Should Know
DTSTAMP:20260420T094339Z
DESCRIPTION:\nIMPORTANT NOTICE: Our dinner meeting that had to be postponed due to inclement weather has been rescheduled for Wednesday, March 13th. \n \nWe are pleased to announce that our three guest speakers from Fiduciary Trust Company International, Gerard F. Joyce, Kevin J. Duncan, and Brian D. Conboy, will present on the topic of Post-Mortem Planning and Administration – What Every Executor (and Their Advisors) Should Know at our March 13th dinner meeting at The J House in Greenwich. Cash bar and cocktails will begin at 5:45 p.m. with passed hors d’oeuvres and buffet station, followed by the speakers at 7:30 p.m., and we anticipate an end to the meeting between 8:30 p.m. and 8:45 p.m.\n \nJoin us as our presenters discuss the roles and responsibilities of serving as executor. They will talk about the practical problems executors often encounter and offer insightful tips and tools for addressing these common issues. Among the topics covered will be investment considerations and cash needs, collecting, valuing and insuring unique assets, tax filings and distribution timings. Also discussed will be the common tax elections that all executors must consider during administration and the presentation will end with an overview of the most common audit triggers. \n \nFor speaker bios and registration details, please click on the document link below.\n
SUMMARY:NEW DATE for Post-Mortem Planning and Administration – What Every Executor (and Their Advisors)  Should Know - Estate Planning Council of Lower Fairfield County, Inc. 
PRIORITY:3
BEGIN:VALARM
TRIGGER:PT18H
ACTION:DISPLAY
DESCRIPTION:Reminder
END:VALARM
END:VEVENT
END:VCALENDAR