BEGIN:VCALENDAR
PRODID:-//hacksw/handcal//NONSGML v1.0//EN
VERSION:2.0
METHOD:PUBLISH
BEGIN:VEVENT
DTSTART:20190508T214500Z
DTEND:20190509T003000Z
LOCATION:The Country Club of Darien, 300 Mansfield Avenue Darien, CT 06820
UID:1641520190508T214500ZBig Impact: Insights & Stories from America's Non-Profit Leaders
DTSTAMP:20260420T094910Z
DESCRIPTION:\nWe are pleased to announce that Linda C. Hartley and Vivien Hoexter, H2 Growth Strategies LLC, will be the guest speakers at our May 8th Annual Meeting at The Country Club of Darien. Hartley and Hoexter will present their findings and recommendations on change leadership, captured in their recent book, Big Impact: Insights & Stories from America's Non-Profit Leaders.\n \nThe evening will begin with networking and cocktails from 5:45 p.m. to 6:45 p.m. on the Terrace, followed by the election of our 2019-2020 Slate of Officers and Directors and educational program from 6:45 p.m. to 8:30 p.m. in the South Ballroom. \n \nHartley and Hoexter interviewed nearly 50 leaders from foundations such as the Rockefeller Brothers Fund, American Express, Robin Hood, Ford, Annie E. Casey, B. Altman, Newman's Own, and William & Flora Hewlett, to nonprofits such as PBS, Independent Sector, Goodwill Industries International, YMCA of the USA, Girl Scouts, Share Our Strength, the Nature Conservancy, Bard College, Bethel Woods Center for the Arts, and DoSomething.org. Join the discussion as Hartley and Hoexter address the key principles of effecting social change. The H2Growth team has partnered with 100 nonprofits to raise over $1.5 billion through strategic and succession planning, board recruitment and capital campaigns.\n \nFor speaker bios and registration details, click on the document link below.\n
SUMMARY:Big Impact: Insights & Stories from America's Non-Profit Leaders - Estate Planning Council of Lower Fairfield County, Inc. 
PRIORITY:3
BEGIN:VALARM
TRIGGER:PT18H
ACTION:DISPLAY
DESCRIPTION:Reminder
END:VALARM
END:VEVENT
END:VCALENDAR