BEGIN:VCALENDAR
PRODID:-//hacksw/handcal//NONSGML v1.0//EN
VERSION:2.0
METHOD:PUBLISH
BEGIN:VEVENT
DTSTART:20200506T214500Z
DTEND:20200507T000000Z
LOCATION:The J House, 1114 East Putnam Avenue, Greenwich, CT 06878
UID:1864720200506T214500ZCANCELLED: Irrevocable Life Insurance Trusts – Insurance Trust Best Practices and Pitfalls
DTSTAMP:20260420T095049Z
DESCRIPTION:\nAN IMPORTANT MESSAGE FROM YOUR COUNCIL'S PRESIDENT\n \nPlease be advised that the Council’s Executive Committee has decided to cancel our May 6th dinner program due to the coronavirus pandemic.\n \nWe will continue to monitor the situation and post an update regarding future Council events soon.\n \nIn the meantime, we hope that everyone is doing well and staying safe.\n \nChristopher C. Vescio, CPA, President\n \n \n
SUMMARY:CANCELLED: Irrevocable Life Insurance Trusts – Insurance Trust Best Practices and Pitfalls - Estate Planning Council of Lower Fairfield County, Inc. 
PRIORITY:3
BEGIN:VALARM
TRIGGER:PT18H
ACTION:DISPLAY
DESCRIPTION:Reminder
END:VALARM
END:VEVENT
END:VCALENDAR