BEGIN:VCALENDAR
PRODID:-//hacksw/handcal//NONSGML v1.0//EN
VERSION:2.0
METHOD:PUBLISH
BEGIN:VEVENT
DTSTART:20220126T133000Z
DTEND:20220126T143000Z
LOCATION:Via Zoom
UID:2188620220126T133000ZTrends and Timely Topics for HNW Clients in 2022
DTSTAMP:20260420T093914Z
DESCRIPTION:\nWe are pleased to announce that Caroline Brooks, JD, CFP®, CLU, AVP & Counsel, Head of Advanced Markets, and John Fitzpatrick, ALMI®, ACS®, Regional Vice President, both with John Hancock, will be our guest speakers on “Trends and Timely Topics for HNW Clients in 2022” at our virtual “breakfast” meeting on Wednesday, January 26th, 8:30 a.m. to 9:15 a.m. followed by networking from 9:15 a.m. to 9:30 a.m.  \n \nWith major legislative changes sidelined (what were the proposed changes and what is the future of Build Back Better?), we’re talking about ways to get clients to move forward with plans now. This year, the estate and gift tax exemption has increased to $12,060,000. With less than four years on the clock before the lifetime exemption is set to be halved and other client concerns such inflation, market volatility and an ongoing pandemic, there are many strategies and techniques to consider implementing today. Join us as our presenters share timely planning ideas for engaging your high net worth clients in 2022, including:\n \nEstate Planning in 2022\n Window is closing on exemptions – what’s holding HNW clients back from acting? Building flexibility where possible – SLATs, grantor trusts, etc. Private split dollar as an alternate way to fund insurance/liquidity need (with various exit strategies, including a “Wait and see” gift) \nSECURE Act/Qualified Plans\n SECURE Act and legacy maximization (IRA max) To Roth or not? Roth conversion vs. retain IRA and purchase life insurance \nPlease click on the document link below for speaker bios and registration details for members and guests. Note, registration deadline is Monday, January 24th.\n
SUMMARY:Trends and Timely Topics for HNW Clients in 2022 - Estate Planning Council of Lower Fairfield County, Inc. 
PRIORITY:3
BEGIN:VALARM
TRIGGER:PT18H
ACTION:DISPLAY
DESCRIPTION:Reminder
END:VALARM
END:VEVENT
END:VCALENDAR