BEGIN:VCALENDAR
PRODID:-//hacksw/handcal//NONSGML v1.0//EN
VERSION:2.0
METHOD:PUBLISH
BEGIN:VEVENT
DTSTART:20221026T214500Z
DTEND:20221027T000000Z
LOCATION:Giovanni’s II/The Water’s Edge, 2748 Post Road, Darien, CT 06820
UID:2340420221026T214500ZSustainable Investing & Fiduciary Duty
DTSTAMP:20260422T094326Z
DESCRIPTION:\nWe are excited to announce that our first dinner meeting of the fall season will be held in person on Wednesday, October 26, 2022, at Giovanni’s II/The Water’s Edge. We will kick off the meeting with cocktails and networking from 5:45pm to 6:30pm, followed by dinner and a panel discussion on Sustainable Investing & Fiduciary Duty that will address the ever-increasing interest in values-based investing, how we define sustainable investing, and the potential implications to a trustee’s fiduciary obligations.\n \nGuest Attendees:  The guest fee is $85 and guest attendance by a professional colleague is limited to two dinner meetings within a two-year period. Eligible guests and professionals that work and/or live in Fairfield County can apply for EPC-LFC membership by completing a membership application, accessible on our website ([www.epclfc.org](http://www.epclfc.org/)). Questions regarding membership or the application process can be addressed by Travis L. Hood, CPA/PFS, our First Vice President, Membership, at 203-327-5717 or Travis@kahansteiger.com.\n \nDeadline to register is Wednesday, October 19th. âFor registration details and speaker bios, please click on the document link below.\n
SUMMARY:Sustainable Investing & Fiduciary Duty - Estate Planning Council of Lower Fairfield County, Inc. 
PRIORITY:3
BEGIN:VALARM
TRIGGER:PT18H
ACTION:DISPLAY
DESCRIPTION:Reminder
END:VALARM
END:VEVENT
END:VCALENDAR