BEGIN:VCALENDAR
PRODID:-//hacksw/handcal//NONSGML v1.0//EN
VERSION:2.0
METHOD:PUBLISH
BEGIN:VEVENT
DTSTART:20230308T133000Z
DTEND:20230308T143000Z
LOCATION:Via Zoom
UID:2341720230308T133000ZIssues facing estate planners with respect to digital assets, such as cryptocurrency and NFTs
DTSTAMP:20260420T094549Z
DESCRIPTION:\nPlease check back for program and registration details forthcoming soon. Thank you.\n
SUMMARY:Issues facing estate planners with respect to digital assets, such as cryptocurrency and NFTs - Estate Planning Council of Lower Fairfield County, Inc. 
PRIORITY:3
BEGIN:VALARM
TRIGGER:PT18H
ACTION:DISPLAY
DESCRIPTION:Reminder
END:VALARM
END:VEVENT
END:VCALENDAR