BEGIN:VCALENDAR
PRODID:-//hacksw/handcal//NONSGML v1.0//EN
VERSION:2.0
METHOD:PUBLISH
BEGIN:VEVENT
DTSTART:20231113T223000Z
DTEND:20231114T010000Z
LOCATION:Bellarmine Hall, Fairfield University, 1073 North Benson Road, Fairfield, CT 06824
UID:2503320231113T223000ZMuseum Tour & Dinner Meeting at Fairfield University
DTSTAMP:20260422T100359Z
DESCRIPTION:\nWe are excited to announce that our next dinner meeting will be held at Fairfield University’s historic Bellarmine Hall on Monday, November 13th. This event will include a guided tour of the university’s [fall exhibit](https://www.fairfield.edu/museum/exhibitions/current-exhibitions/index.html) featuring more than 50 works by acclaimed Polish Jewish miniaturist and political cartoonist Arthur Szyk (1894-1951), followed by an informal conversation on the topic of art appraisals with Charles T. Rosoff, ASA, MRICS, President, Appraisal Services Associates.\n \nHere's the agenda for the evening:\n \n5:30pm:           Reception/Registration in Great Hall\n \n6:00pm:           First museum tour begins\n \n6:25pm:           Second museum tour begins (if needed)*\n \n6:50pm:           Dinner buffet and speaker presentation in Diffley Boardroom\n \n8:00pm:           Adjourn\n \n*Depending on the number of attendees, we may need to break out into two smaller groups for the guided museum tour.\n \nGuest Attendees:  The guest fee is $85 and guest attendance by a professional colleague is limited to two dinner meetings within a two-year period. Eligible guests and professionals that work and/or live in Fairfield County can apply for EPC-LFC membership by completing a membership application, accessible on our website ([www.epclfc.org](http://www.epclfc.org/)). Questions regarding membership or the application process can be addressed by William Murray, CPA, CFF, ASA, ABV, 1st Vice President, Membership, at wmurray@mpival.com.\n \nRegistration deadline is 4:00p.m. on Monday, November 6th. For registration details, please click on the document link below.\n
SUMMARY:Museum Tour & Dinner Meeting at Fairfield University - Estate Planning Council of Lower Fairfield County, Inc. 
PRIORITY:3
BEGIN:VALARM
TRIGGER:PT18H
ACTION:DISPLAY
DESCRIPTION:Reminder
END:VALARM
END:VEVENT
END:VCALENDAR