BEGIN:VCALENDAR
PRODID:-//hacksw/handcal//NONSGML v1.0//EN
VERSION:2.0
METHOD:PUBLISH
BEGIN:VEVENT
DTSTART:20241113T133000Z
DTEND:20241113T143000Z
LOCATION:Via Zoom
UID:2672020241113T133000ZBreakfast Webinar: Planning on AI: The Future of Estate Planning in the Age of Artificial Intelligence
DTSTAMP:20260422T094038Z
DESCRIPTION:\nWe are pleased to announce that [Ross E. Bruch, Senior Wealth Planner, Brown Brothers Harriman & Co.,] will be our guest speaker on the topic of ”Planning on AI: The Future of Estate Planning in the Age of Artificial Intelligence” at our virtual “breakfast” meeting on Wednesday, November 13, 8:30 a.m. to 9:15 a.m. followed by networking from 9:15 a.m. to 9:30 a.m. \n \nAs a Senior Wealth Planner in the Philadelphia office, Ross works with and advises successful individuals and business owners on the preservation, growth, and transfer of wealth. His presentation will explore how AI is poised to revolutionize the way we approach estate planning by automating routine tasks, providing personalized advice, and ensuring compliance with evolving regulations. The predictions to be discussed, from personalized estate planning advice to continuous estate plan monitoring, will illustrate the wide-ranging impact AI can have on estate planning.\n \nAs law firms navigate the complexities of incorporating AI, it is crucial to develop and implement ethical policies that ensure transparency, data privacy, and regulatory compliance. Addressing client privacy concerns and maintaining rigorous security measures will be key to fostering trust and ensuring responsible AI use.\n \nThe future of AI in estate planning and the broader legal field is both uncertain and promising. As AI technology continues to evolve, it will undoubtedly bring new opportunities and challenges. Staying informed about advancements, exploring innovative AI tools, and embracing the potential of AI will be essential for legal and other estate planning professionals seeking to enhance their practice and deliver exceptional value to their clients.\n \nGuest Attendees:\n \nThe guest fee is $50 to attend our breakfast webinars and guest attendance by a professional colleague is limited to two events (virtual and/or in person) within a two-year period. Eligible guests and professionals that work and/or live in Fairfield County can apply for EPC-LFC membership by completing a membership application, accessible on our website ([www.epclfc.org](http://www.epclfc.org/)). Questions regarding membership or the application process can be addressed by Christopher Martens, CIC, CWCC, CPRIA, 1st Vice President, Membership, at Christopher.Martens@AssuredPartners.com.\n \nFor registration details, please click on the document link below.\n
SUMMARY:Breakfast Webinar: Planning on AI: The Future of Estate Planning in the Age of Artificial Intelligence - Estate Planning Council of Lower Fairfield County, Inc. 
PRIORITY:3
BEGIN:VALARM
TRIGGER:PT18H
ACTION:DISPLAY
DESCRIPTION:Reminder
END:VALARM
END:VEVENT
END:VCALENDAR