BEGIN:VCALENDAR
PRODID:-//hacksw/handcal//NONSGML v1.0//EN
VERSION:2.0
METHOD:PUBLISH
BEGIN:VEVENT
DTSTART:20091118T130000Z
DTEND:20091118T140000Z
LOCATION:Westport Public Library (Arnold Bernhard Plaza – Levitt Pavilion Main Entrance), Westport, Connectic
UID:417020091118T130000ZBreakfast Meeting: Do's & Don'ts of Valuation
DTSTAMP:20260420T094038Z
DESCRIPTION:\nWe are pleased to annouce that our first breakfast meeting of the 2009 fall season is scheduled for Wednesday, November 18, featuring Carolyn Armbrust on the "Do's and Don'ts of Valuation." Please click on the link below for more program and registration details. IMPORTANT REMINDERS: Breakfast Meeting participation is limited to Council Members \n
SUMMARY:Breakfast Meeting: Do's & Don'ts of Valuation - Estate Planning Council of Lower Fairfield County, Inc. 
PRIORITY:3
BEGIN:VALARM
TRIGGER:PT18H
ACTION:DISPLAY
DESCRIPTION:Reminder
END:VALARM
END:VEVENT
END:VCALENDAR