BEGIN:VCALENDAR
PRODID:-//hacksw/handcal//NONSGML v1.0//EN
VERSION:2.0
METHOD:PUBLISH
BEGIN:VEVENT
DTSTART:20121205T224500Z
DTEND:20121206T014500Z
LOCATION:Innis Arden Golf Club, Old Greenwich, CT
UID:653820121205T224500ZDrafting & Administering Discretionary Trusts and Potential Post-Election Changes in the Tax Laws
DTSTAMP:20260420T135706Z
DESCRIPTION:\nWe are pleased to announce that Susan Porter, Esq., a Senior Advisor with Brown Brothers Harriman Trust Company, NA, will be our guest speaker on the subjects of Drafting and Administering Discretionary Trusts & Post-Election Tax Law Changes at our December 5th Dinner Meeting at Innis Arden Golf Club in Old Greenwich. Cash bar and cocktails will begin at 5:45 p.m., followed by dinner promptly at 6:30 p.m., speaker at 7:30 p.m., and we anticipate an end to the meeting between 8:30 p.m. and 8:45 p.m. For directions, visit [www.innisardengolfclub.com](http://www.innisardengolfclub.com/).  \nAttorney Porter will discuss the issues to consider in drafting and administering discretionary trusts. She will also talk about the potential changes in the tax laws following the 2012 elections.\n \nPlease click on the link below for program and registration details. (Non-members may attend Council dinner programs if accompanied by a member.)\n
SUMMARY:Drafting & Administering Discretionary Trusts and Potential Post-Election Changes in the Tax Laws - Estate Planning Council of Lower Fairfield County, Inc. 
PRIORITY:3
BEGIN:VALARM
TRIGGER:PT18H
ACTION:DISPLAY
DESCRIPTION:Reminder
END:VALARM
END:VEVENT
END:VCALENDAR