BEGIN:VCALENDAR
PRODID:-//hacksw/handcal//NONSGML v1.0//EN
VERSION:2.0
METHOD:PUBLISH
BEGIN:VEVENT
DTSTART:20140115T130000Z
DTEND:20140115T140000Z
LOCATION:Westport Public Library
UID:803420140115T130000ZBreakfast Meeting: 2014 Tax Planning Update
DTSTAMP:20260420T095929Z
DESCRIPTION:\nWe are pleased to announce that Christopher C. Vescio, CPA, Vescio Family Advisors, LLC, will be the guest speaker and will provide a "2014 Tax Planning Update” at our “members only” breakfast meeting on Wednesday, January 15, 2014, 8:00 a.m. to 9:00 a.m., at The Westport Library. \n \nFor complete program and registration details, please click on the document below.\n \nWe hope you can join us!\n
SUMMARY:Breakfast Meeting: 2014 Tax Planning Update - Estate Planning Council of Lower Fairfield County, Inc. 
PRIORITY:3
BEGIN:VALARM
TRIGGER:PT18H
ACTION:DISPLAY
DESCRIPTION:Reminder
END:VALARM
END:VEVENT
END:VCALENDAR